BEGIN:VCALENDAR
VERSION:2.0
PRODID:-//Akademie f&uuml;r Europ&auml;ische Naturheilmethoden &amp; Schamanismus - ECPv6.15.20//NONSGML v1.0//EN
CALSCALE:GREGORIAN
METHOD:PUBLISH
X-WR-CALNAME:Akademie f&uuml;r Europ&auml;ische Naturheilmethoden &amp; Schamanismus
X-ORIGINAL-URL:https://land-schamane.com/cms
X-WR-CALDESC:Veranstaltungen für Akademie f&uuml;r Europ&auml;ische Naturheilmethoden &amp; Schamanismus
REFRESH-INTERVAL;VALUE=DURATION:PT1H
X-Robots-Tag:noindex
X-PUBLISHED-TTL:PT1H
BEGIN:VTIMEZONE
TZID:Europe/Vienna
BEGIN:DAYLIGHT
TZOFFSETFROM:+0100
TZOFFSETTO:+0200
TZNAME:CEST
DTSTART:20230326T010000
END:DAYLIGHT
BEGIN:STANDARD
TZOFFSETFROM:+0200
TZOFFSETTO:+0100
TZNAME:CET
DTSTART:20231029T010000
END:STANDARD
BEGIN:DAYLIGHT
TZOFFSETFROM:+0100
TZOFFSETTO:+0200
TZNAME:CEST
DTSTART:20240331T010000
END:DAYLIGHT
BEGIN:STANDARD
TZOFFSETFROM:+0200
TZOFFSETTO:+0100
TZNAME:CET
DTSTART:20241027T010000
END:STANDARD
BEGIN:DAYLIGHT
TZOFFSETFROM:+0100
TZOFFSETTO:+0200
TZNAME:CEST
DTSTART:20250330T010000
END:DAYLIGHT
BEGIN:STANDARD
TZOFFSETFROM:+0200
TZOFFSETTO:+0100
TZNAME:CET
DTSTART:20251026T010000
END:STANDARD
END:VTIMEZONE
BEGIN:VEVENT
DTSTART;TZID=Europe/Vienna:20240525T100000
DTEND;TZID=Europe/Vienna:20240525T170000
DTSTAMP:20260422T152047
CREATED:20240305T201632Z
LAST-MODIFIED:20240402T095936Z
UID:2354-1716631200-1716656400@land-schamane.com
SUMMARY:Einzelbehandlungen ~ in Graz
DESCRIPTION:Einzelbehandlungen von Dolmar Kurt Brückler und seiner Assistentin Una Marina Erlacher sind am SA\, 25.05.2024 möglich. \nAusgehend von der Ursache deines Problems wird die schamanische Behandlung auf dich individuell abgestimmt. \nPreis auf Anfrage. \nFragen und Anmeldung (erforderlich) bei Una Marina Erlacher: marina.erlacher@hotmail.com oder unter 0680/5527667. \n  \nDie Akademie bietet eine Vielzahl schamanischer Angebote für deinen persönlichen Heilwerdungsprozess. \nDolmar Kurt Brückler\, gewerblicher Masseur\, lebt als anerkannter Schamane der alpenländischen Tradition sowie indigener Völker seit über fünf Jahrzehnten seine Berufung als spiritueller Heiler\, Geistheiler und Lehrer. \nUna Marina Erlacher – Sozialpädagogin\, langjährige Schülerin\, geweihte Schamanin und Geistheilerin – unterstützt dich ebenfalls mit ihren Perspektiven und Fähigkeiten\, damit du deinen heilsamen Seelenweg (wieder)finden und (weiter)gehen kannst. \n  \nWir helfen dir gerne zu neuer Lebensfreude\, Klarheit und Seelenfrieden.  \nWir freuen uns auf dich! \n  \n  \n \n  \nMöchtest du auch über weitere Angebote der Akademie informiert bleiben\, dann gibt es folgende Möglichkeiten: \n⭐   www.land-schamane.com \n⭐   Telegram Newsletter- & Austauschgruppe \n⭐   Whatsapp Newslettergruppe \n⭐   Instagram \n⭐   Facebook \n 
URL:https://land-schamane.com/cms/event/einzelbehandlungen-in-graz/
LOCATION:Casa Ananda\, Alberstraße 9/3\, Graz\, Steiermark\, 8010\, Österreich
CATEGORIES:Seminare zur Aktivierung der Selbstheilungskräfte,Seminare, Vorträge & Fortbildungen,Vorträge,Workshop
ATTACH;FMTTYPE=image/jpeg:https://land-schamane.com/cms/wp-content/uploads/2024/03/fb_Veranstaltungstitelbild-Handauflegen-Graz-1-e1709670363223.jpg
ORGANIZER;CN="Akademie f%C3%BCr Naturheilmethoden & Schamanismus":MAILTO:marina.erlacher@hotmail.com
END:VEVENT
END:VCALENDAR