BEGIN:VCALENDAR
VERSION:2.0
PRODID:-//Akademie f&uuml;r Europ&auml;ische Naturheilmethoden &amp; Schamanismus - ECPv6.15.20//NONSGML v1.0//EN
CALSCALE:GREGORIAN
METHOD:PUBLISH
X-ORIGINAL-URL:https://land-schamane.com/cms
X-WR-CALDESC:Veranstaltungen für Akademie f&uuml;r Europ&auml;ische Naturheilmethoden &amp; Schamanismus
REFRESH-INTERVAL;VALUE=DURATION:PT1H
X-Robots-Tag:noindex
X-PUBLISHED-TTL:PT1H
BEGIN:VTIMEZONE
TZID:Europe/Vienna
BEGIN:DAYLIGHT
TZOFFSETFROM:+0100
TZOFFSETTO:+0200
TZNAME:CEST
DTSTART:20250330T010000
END:DAYLIGHT
BEGIN:STANDARD
TZOFFSETFROM:+0200
TZOFFSETTO:+0100
TZNAME:CET
DTSTART:20251026T010000
END:STANDARD
BEGIN:DAYLIGHT
TZOFFSETFROM:+0100
TZOFFSETTO:+0200
TZNAME:CEST
DTSTART:20260329T010000
END:DAYLIGHT
BEGIN:STANDARD
TZOFFSETFROM:+0200
TZOFFSETTO:+0100
TZNAME:CET
DTSTART:20261025T010000
END:STANDARD
BEGIN:DAYLIGHT
TZOFFSETFROM:+0100
TZOFFSETTO:+0200
TZNAME:CEST
DTSTART:20270328T010000
END:DAYLIGHT
BEGIN:STANDARD
TZOFFSETFROM:+0200
TZOFFSETTO:+0100
TZNAME:CET
DTSTART:20271031T010000
END:STANDARD
END:VTIMEZONE
BEGIN:VEVENT
DTSTART;TZID=Europe/Vienna:20260605T183000
DTEND;TZID=Europe/Vienna:20260605T200000
DTSTAMP:20260422T223046
CREATED:20260422T100731Z
LAST-MODIFIED:20260422T101451Z
UID:3257-1780684200-1780689600@land-schamane.com
SUMMARY:Info-Abend: Schamanische Grundausbildung
DESCRIPTION:INFO – ABEND \nDein schamanischer Weg beginnt … \n \n  \n👉  Alle Infos zur schamanischen Jahresgrundausbildung 2026/2027 \n  \nSpüre die Heilkraft des schamanischen Rituals: „Medizinrad der Vergebung“ am darauffolgenden Tag! \n \n  \n👉  Informationen im PDF-Format \n  \nAnmeldungen bzw. unverbindliche Erstinformation: \nUna Marina Erlacher: 0680/5527667 ~ marina.erlacher@hotmail.com \nAmaris Horst Longitsch: 0664/9040490 ~ optik.longitsch@aon.at \n  \nWir freuen uns sehr auf dich! ❤️ \nMarina & Horst \n  \nMehr von uns: \n⭐   Telegram Newsletter- & Austauschgruppe \n⭐   Whatsapp Newsletter-Gruppe \n⭐   Instagram \n⭐   Facebook
URL:https://land-schamane.com/cms/event/info-abend-schamanische-grundausbildung/
LOCATION:Akademie für Naturheilmethoden & Schamanismus\, Dorfstraße 225\, Wörschach\, Steiermark\, 8942\, Austria
CATEGORIES:Geistiges Heilen & Beraten,Innere Kind - Arbeit,Schamanische Grundausbildung,Seminare zur Aktivierung der Selbstheilungskräfte,Seminare, Vorträge & Fortbildungen,Vorträge,Workshop
ATTACH;FMTTYPE=image/jpeg:https://land-schamane.com/cms/wp-content/uploads/2026/04/Titelbild_Info-Abend-05.06.2026-e1776851841167.jpg
ORGANIZER;CN="Akademie f%C3%BCr Naturheilmethoden & Schamanismus":MAILTO:marina.erlacher@hotmail.com
END:VEVENT
END:VCALENDAR