BEGIN:VCALENDAR
VERSION:2.0
PRODID:-//Akademie f&uuml;r Europ&auml;ische Naturheilmethoden &amp; Schamanismus - ECPv6.15.20//NONSGML v1.0//EN
CALSCALE:GREGORIAN
METHOD:PUBLISH
X-WR-CALNAME:Akademie f&uuml;r Europ&auml;ische Naturheilmethoden &amp; Schamanismus
X-ORIGINAL-URL:https://land-schamane.com/cms
X-WR-CALDESC:Veranstaltungen für Akademie f&uuml;r Europ&auml;ische Naturheilmethoden &amp; Schamanismus
REFRESH-INTERVAL;VALUE=DURATION:PT1H
X-Robots-Tag:noindex
X-PUBLISHED-TTL:PT1H
BEGIN:VTIMEZONE
TZID:Europe/Vienna
BEGIN:DAYLIGHT
TZOFFSETFROM:+0100
TZOFFSETTO:+0200
TZNAME:CEST
DTSTART:20220327T010000
END:DAYLIGHT
BEGIN:STANDARD
TZOFFSETFROM:+0200
TZOFFSETTO:+0100
TZNAME:CET
DTSTART:20221030T010000
END:STANDARD
BEGIN:DAYLIGHT
TZOFFSETFROM:+0100
TZOFFSETTO:+0200
TZNAME:CEST
DTSTART:20230326T010000
END:DAYLIGHT
BEGIN:STANDARD
TZOFFSETFROM:+0200
TZOFFSETTO:+0100
TZNAME:CET
DTSTART:20231029T010000
END:STANDARD
BEGIN:DAYLIGHT
TZOFFSETFROM:+0100
TZOFFSETTO:+0200
TZNAME:CEST
DTSTART:20240331T010000
END:DAYLIGHT
BEGIN:STANDARD
TZOFFSETFROM:+0200
TZOFFSETTO:+0100
TZNAME:CET
DTSTART:20241027T010000
END:STANDARD
END:VTIMEZONE
BEGIN:VEVENT
DTSTART;VALUE=DATE:20231201
DTEND;VALUE=DATE:20231204
DTSTAMP:20260422T215938
CREATED:20230131T182834Z
LAST-MODIFIED:20230831T183139Z
UID:1612-1701388800-1701647999@land-schamane.com
SUMMARY:Modul IV: Internationale & nationale schamanische Jahresgrundausbildung
DESCRIPTION:SCHAMANISCHES RÄUCHERN \n*** für Körper\, Haus und Wohnung sowie Brauchtums-Räucherung (z.B. Rauhnächte) \n\n Nähere Infos im Ausbildungs-Folder
URL:https://land-schamane.com/cms/event/modul-vi-internationale-nationale-schamanische-jahresgrundausbildung/
CATEGORIES:Schamanische Grundausbildung
ATTACH;FMTTYPE=image/jpeg:https://land-schamane.com/cms/wp-content/uploads/2023/01/Folder_Grundausbildung-2023_Titelbild.jpg
END:VEVENT
END:VCALENDAR