BEGIN:VCALENDAR
VERSION:2.0
PRODID:-//Akademie f&uuml;r Europ&auml;ische Naturheilmethoden &amp; Schamanismus - ECPv6.15.17.1//NONSGML v1.0//EN
CALSCALE:GREGORIAN
METHOD:PUBLISH
X-WR-CALNAME:Akademie f&uuml;r Europ&auml;ische Naturheilmethoden &amp; Schamanismus
X-ORIGINAL-URL:https://land-schamane.com/cms
X-WR-CALDESC:Veranstaltungen für Akademie f&uuml;r Europ&auml;ische Naturheilmethoden &amp; Schamanismus
REFRESH-INTERVAL;VALUE=DURATION:PT1H
X-Robots-Tag:noindex
X-PUBLISHED-TTL:PT1H
BEGIN:VTIMEZONE
TZID:Europe/Vienna
BEGIN:DAYLIGHT
TZOFFSETFROM:+0100
TZOFFSETTO:+0200
TZNAME:CEST
DTSTART:20230326T010000
END:DAYLIGHT
BEGIN:STANDARD
TZOFFSETFROM:+0200
TZOFFSETTO:+0100
TZNAME:CET
DTSTART:20231029T010000
END:STANDARD
BEGIN:DAYLIGHT
TZOFFSETFROM:+0100
TZOFFSETTO:+0200
TZNAME:CEST
DTSTART:20240331T010000
END:DAYLIGHT
BEGIN:STANDARD
TZOFFSETFROM:+0200
TZOFFSETTO:+0100
TZNAME:CET
DTSTART:20241027T010000
END:STANDARD
BEGIN:DAYLIGHT
TZOFFSETFROM:+0100
TZOFFSETTO:+0200
TZNAME:CEST
DTSTART:20250330T010000
END:DAYLIGHT
BEGIN:STANDARD
TZOFFSETFROM:+0200
TZOFFSETTO:+0100
TZNAME:CET
DTSTART:20251026T010000
END:STANDARD
END:VTIMEZONE
BEGIN:VEVENT
DTSTART;VALUE=DATE:20240405
DTEND;VALUE=DATE:20240408
DTSTAMP:20260419T151046
CREATED:20240124T175704Z
LAST-MODIFIED:20240124T180211Z
UID:2228-1712275200-1712534399@land-schamane.com
SUMMARY:Shamanic Healing Weekend - schamanische Seelen-Arbeit in Villach
DESCRIPTION:Schamanische Seelen-Arbeit in Villach ~ April 2024 \nSeelen-Arbeit\, das Herzstück des Schamanismus\, und die besondere Gabe von Kurt\, mit deiner Seele zu sprechen und sie heilsam zu berühren\, verbinden sich hier zu einer besonderen Gelegenheit. \n„Deine Aufgabe ist nicht die Liebe zu suchen\, sondern nur all die Hindernisse in dir zu suchen und zu finden\, die du dagegen aufgebaut hast ~ Rumi.“ \nDieses Seminar kann dich unterstützen und kraftvolle Energie für deine Selbstheilungskräfte freisetzen wenn du \n\n gesundheitliche Probleme hast und schon vieles ohne Erfolg ausprobiert wurde\n du dir selbst im Wege stehst\, neben dir stehst\, dich blockiert fühlst\n ungesunde Muster sich immer wieder in deinem Leben wiederholen (im Beruf\, Partnerschaft\, Familie\, etc.)\n\nAlle weiteren Infos findest du hier\, im Folder:\n \n 
URL:https://land-schamane.com/cms/event/shamanic-healing-weekend-schamanische-seelen-arbeit-in-villach/
LOCATION:Gasthof Hotel Bacher\, Vassacher Straße 58\, Villach\, Kärnten\, 9500\, Österreich
CATEGORIES:Seminare zur Aktivierung der Selbstheilungskräfte
ATTACH;FMTTYPE=image/jpeg:https://land-schamane.com/cms/wp-content/uploads/2024/01/Shamanic-Healing-Weekend_Villach_04_24_S.1_fuer-hp_final.jpg
ORGANIZER;CN="Akademie f%C3%BCr Europ%C3%A4ische Naturheilmethoden und Schamanismus":MAILTO:marina.erlacher@hotmail.com
END:VEVENT
END:VCALENDAR