BEGIN:VCALENDAR
VERSION:2.0
PRODID:-//Akademie f&uuml;r Europ&auml;ische Naturheilmethoden &amp; Schamanismus - ECPv6.15.20//NONSGML v1.0//EN
CALSCALE:GREGORIAN
METHOD:PUBLISH
X-ORIGINAL-URL:https://land-schamane.com/cms
X-WR-CALDESC:Veranstaltungen für Akademie f&uuml;r Europ&auml;ische Naturheilmethoden &amp; Schamanismus
REFRESH-INTERVAL;VALUE=DURATION:PT1H
X-Robots-Tag:noindex
X-PUBLISHED-TTL:PT1H
BEGIN:VTIMEZONE
TZID:Europe/Vienna
BEGIN:DAYLIGHT
TZOFFSETFROM:+0100
TZOFFSETTO:+0200
TZNAME:CEST
DTSTART:20240331T010000
END:DAYLIGHT
BEGIN:STANDARD
TZOFFSETFROM:+0200
TZOFFSETTO:+0100
TZNAME:CET
DTSTART:20241027T010000
END:STANDARD
BEGIN:DAYLIGHT
TZOFFSETFROM:+0100
TZOFFSETTO:+0200
TZNAME:CEST
DTSTART:20250330T010000
END:DAYLIGHT
BEGIN:STANDARD
TZOFFSETFROM:+0200
TZOFFSETTO:+0100
TZNAME:CET
DTSTART:20251026T010000
END:STANDARD
BEGIN:DAYLIGHT
TZOFFSETFROM:+0100
TZOFFSETTO:+0200
TZNAME:CEST
DTSTART:20260329T010000
END:DAYLIGHT
BEGIN:STANDARD
TZOFFSETFROM:+0200
TZOFFSETTO:+0100
TZNAME:CET
DTSTART:20261025T010000
END:STANDARD
END:VTIMEZONE
BEGIN:VEVENT
DTSTART;TZID=Europe/Vienna:20251128T140000
DTEND;TZID=Europe/Vienna:20251130T140000
DTSTAMP:20260423T183648
CREATED:20250225T223837Z
LAST-MODIFIED:20250227T105233Z
UID:2963-1764338400-1764511200@land-schamane.com
SUMMARY:Schamanische Seelen-Arbeit
DESCRIPTION:Entdecke dein eigenes Seelenreich\, indem du die Portale der Seele durchschreitest \n– um Wunden & Verletzungen zu heilen \n– Gnade & Vergebung zu erfahren \n– verlorene Seelenanteile zu integrieren & karmische Muster zu lösen \n– schließlich zu deiner inneren Schatzkammer\, deinem wahren Potenzial\, zu gelangen. \n\n  \n… Die Vier Portale zu den Seelenräumen \nWie weit haben wir uns tatsächlich von unserem Wesenskern entfernt? Wie viele Türen hinter uns geschlossen und welche Erinnerungen in den dunkelsten Räumen weggesperrt? Wie sehr wir dadurch blockiert werden und in unbewussten Mustern festhängen\, begreifen wir erst\, wenn wir den Mut haben\, ehrlich in uns selbst zu blicken. \nDurch gezielte Anleitung wirst du durch die Seelenräume geführt und kannst dabei die bislang verborgenen Botschaften deiner Seele erfahren. Mit jedem Portal\, welches bewusst geöffnet wird\, näherst du dich deinen Seelenkern und legst dein wahres Potenzial frei. \n  \nSEELENFRIEDEN\, LEBENSFREUDE & NEUE ENERGIE … \n… durch unterschiedliche schamanische Methoden\, wie etwa meditative Trance-Reisen sowie achtsames Hinsehen und Zuhören\, gemeinsame Reflexion der Erfahrungen sowie konkrete praktische Hilfestellungen für deinen Alltag. \nDolmar Kurt Brückler – Schamane und Mittler zwischen den Welten – weiß um die Ängste\, Sorgen und Hemmungen der Menschen\, zugleich auch um die Notwendigkeit\, energetische Knoten zu lösen. Gerade die bedeutsame schamanische Seelenarbeit gilt als ein Kernelement seiner langjährigen spirituellen Praxis. \n\nWenn du den Ruf deiner Seele annimmst\,\ndann ist eine tiefgreifende Lösung von Problemen möglich.\n \nDamit wieder Harmonie in Körper\, Geist und Seele einkehrt! \n \n\n \n  \nFür Fragen und Anmeldung: \nAmaris Horst Longitsch \n+43 664 90 40 490 \noptik.longitsch@aon.at  \n  \nWir freuen uns sehr auf dich! \n  \n–> Info-Folder als PDF-Datei \n\n–> Anmeldeformular \n  \n\nMehr von uns: \n⭐   Telegram Newsletter- & Austauschgruppe \n⭐   Whatsapp Newslettergruppe \n⭐   Instagram \n⭐   Facebook
URL:https://land-schamane.com/cms/event/schamanische-seelen-arbeit/
LOCATION:Akademie für Naturheilmethoden & Schamanismus\, Dorfstraße 225\, Wörschach\, Steiermark\, 8942\, Austria
CATEGORIES:Seminare zur Aktivierung der Selbstheilungskräfte,Seminare, Vorträge & Fortbildungen,Workshop
ATTACH;FMTTYPE=image/jpeg:https://land-schamane.com/cms/wp-content/uploads/2025/02/Titelbild_HdR-e1740652285912.jpg
ORGANIZER;CN="Akademie f%C3%BCr Naturheilmethoden & Schamanismus":MAILTO:marina.erlacher@hotmail.com
END:VEVENT
END:VCALENDAR