BEGIN:VCALENDAR
VERSION:2.0
PRODID:-//Akademie f&uuml;r Europ&auml;ische Naturheilmethoden &amp; Schamanismus - ECPv6.15.20//NONSGML v1.0//EN
CALSCALE:GREGORIAN
METHOD:PUBLISH
X-WR-CALNAME:Akademie f&uuml;r Europ&auml;ische Naturheilmethoden &amp; Schamanismus
X-ORIGINAL-URL:https://land-schamane.com/cms
X-WR-CALDESC:Veranstaltungen für Akademie f&uuml;r Europ&auml;ische Naturheilmethoden &amp; Schamanismus
REFRESH-INTERVAL;VALUE=DURATION:PT1H
X-Robots-Tag:noindex
X-PUBLISHED-TTL:PT1H
BEGIN:VTIMEZONE
TZID:Europe/Vienna
BEGIN:DAYLIGHT
TZOFFSETFROM:+0100
TZOFFSETTO:+0200
TZNAME:CEST
DTSTART:20220327T010000
END:DAYLIGHT
BEGIN:STANDARD
TZOFFSETFROM:+0200
TZOFFSETTO:+0100
TZNAME:CET
DTSTART:20221030T010000
END:STANDARD
BEGIN:DAYLIGHT
TZOFFSETFROM:+0100
TZOFFSETTO:+0200
TZNAME:CEST
DTSTART:20230326T010000
END:DAYLIGHT
BEGIN:STANDARD
TZOFFSETFROM:+0200
TZOFFSETTO:+0100
TZNAME:CET
DTSTART:20231029T010000
END:STANDARD
BEGIN:DAYLIGHT
TZOFFSETFROM:+0100
TZOFFSETTO:+0200
TZNAME:CEST
DTSTART:20240331T010000
END:DAYLIGHT
BEGIN:STANDARD
TZOFFSETFROM:+0200
TZOFFSETTO:+0100
TZNAME:CET
DTSTART:20241027T010000
END:STANDARD
END:VTIMEZONE
BEGIN:VEVENT
DTSTART;TZID=Europe/Vienna:20231110T183000
DTEND;TZID=Europe/Vienna:20231110T210000
DTSTAMP:20260424T175835
CREATED:20230926T193044Z
LAST-MODIFIED:20230926T194414Z
UID:2106-1699641000-1699650000@land-schamane.com
SUMMARY:Vortrag: Höre den Ruf deiner Seele - schamanische Seelenarbeit
DESCRIPTION:Wie ein fehlender Anteil meiner Selbst… den ich nicht misste\, solange ich vom Fehlen nichts wusste. Jetzt fehlst du mir sehr… Bitte finde deinen Weg zurück. \nHöre den Ruf deiner Seele…\n… und antworte ihr Finde dadurch Heimat und inneren Frieden in dir selbst! \nSchamanische Hilfestellung für deine Seele bedeutet: \n✨ Rückholung von verloren gegangenen Seelen-Anteilen \n✨ Auflösung von karmischen Mustern \n✨ Schamanische Neugeburt \n✨ schamanische Trance-Reisen zu deinem Seelenkern und seinen Botschaften \nWir möchten euch herzlich zum Vortrag und Tagesworkshop zu diesen Themen in Graz am 10. und 11. November einladen . \nIm Tagesworkshop erwarten dich eine meditative Reise zur Aktivierung deiner Energie-Zentren und zum Spiegel deiner Seele. Inklusive Nachgespräch und individuellen Hilfestellungen. \nWenn du den Ruf deiner Seele annimmst\, dann ist eine tiefgreifende Lösung von Problemen möglich. Damit wieder Harmonie in Körper\, Geist & Seele einkehrt . \nSpezielle Einkehrtage für intensive schamanische Seelen-Arbeit im Okt. und Dez. in Wörschach: \n20.10.-22.10.2023\n08.12.-10.12.2023 \nNähere Infos: https://land-schamane.com/cms/event/hoere-den-ruf-deiner-seele-modul-i-schamanische-seelenarbeit/ \nWir freuen uns auf dich! \nAlles Liebe und eine Umarmung von Herz zu Herz ✨✨ \nKurt\, Marina & Horst
URL:https://land-schamane.com/cms/event/vortrag-hoere-den-ruf-deiner-seele-schamanische-seelenarbeit/
LOCATION:Steiermarkhof\, Steiermarkhof\, Ekkehard-Hauer-Straße 33\, Steiermark\, 8052 Graz
CATEGORIES:Seminare zur Aktivierung der Selbstheilungskräfte,Vorträge,Workshop
ORGANIZER;CN="Akademie f%C3%BCr Naturheilmethoden & Schamanismus":MAILTO:marina.erlacher@hotmail.com
END:VEVENT
END:VCALENDAR