BEGIN:VCALENDAR
VERSION:2.0
PRODID:-//Akademie f&uuml;r Europ&auml;ische Naturheilmethoden &amp; Schamanismus - ECPv6.15.17.1//NONSGML v1.0//EN
CALSCALE:GREGORIAN
METHOD:PUBLISH
X-ORIGINAL-URL:https://land-schamane.com/cms
X-WR-CALDESC:Veranstaltungen für Akademie f&uuml;r Europ&auml;ische Naturheilmethoden &amp; Schamanismus
REFRESH-INTERVAL;VALUE=DURATION:PT1H
X-Robots-Tag:noindex
X-PUBLISHED-TTL:PT1H
BEGIN:VTIMEZONE
TZID:Europe/Vienna
BEGIN:DAYLIGHT
TZOFFSETFROM:+0100
TZOFFSETTO:+0200
TZNAME:CEST
DTSTART:20250330T010000
END:DAYLIGHT
BEGIN:STANDARD
TZOFFSETFROM:+0200
TZOFFSETTO:+0100
TZNAME:CET
DTSTART:20251026T010000
END:STANDARD
BEGIN:DAYLIGHT
TZOFFSETFROM:+0100
TZOFFSETTO:+0200
TZNAME:CEST
DTSTART:20260329T010000
END:DAYLIGHT
BEGIN:STANDARD
TZOFFSETFROM:+0200
TZOFFSETTO:+0100
TZNAME:CET
DTSTART:20261025T010000
END:STANDARD
BEGIN:DAYLIGHT
TZOFFSETFROM:+0100
TZOFFSETTO:+0200
TZNAME:CEST
DTSTART:20270328T010000
END:DAYLIGHT
BEGIN:STANDARD
TZOFFSETFROM:+0200
TZOFFSETTO:+0100
TZNAME:CET
DTSTART:20271031T010000
END:STANDARD
END:VTIMEZONE
BEGIN:VEVENT
DTSTART;TZID=Europe/Vienna:20260828T140000
DTEND;TZID=Europe/Vienna:20260830T140000
DTSTAMP:20260419T204503
CREATED:20250222T201740Z
LAST-MODIFIED:20250222T201740Z
UID:2956-1787925600-1788098400@land-schamane.com
SUMMARY:Modul XII: Medizinrad & Steinspirale
DESCRIPTION:Modul XII: Medizinrad & Steinspirale \n \nEinzeln oder als Modul im Rahmen der Grundausbildung wählbar. \n  \nErlebe die tiefgreifende Heilkraft des heiligen Steinkreises sowie der Steinspirale und lerne sie in Theorie und Praxis zu nutzen. \nHl. Steinkreis: Wandere durch die vier Felder (des Kriegers\, des Sehers\, des Heilers und des Lehrers) um zu erkennen\, anzunehmen und loszulassen. \nSteinspirale: Durchwandere symbolisch dein Leben zurück bis zu deiner Geburt und befreie dich von Blockaden bestimmter Lebensphasen. \nInkl. Einweihung zum schamanisch Praktizierenden und Überreichung des Abschlusszertifikates bei Absolvierung aller 12 Module der Grundausbildung. \n  \n–> Informationsfolder als PDF-Datei \n  \nAnmeldungen bzw. bei Fragen: \nUna Marina Erlacher (0680/5527667 ~ marina.erlacher@hotmail.com) \nAmaris Horst Longitsch (0664/9040490 ~ optik.longitsch@aon.at) \n  \nWir freuen uns auf dich! \nMarina & Horst \n  \nmehr von uns: \n⭐   www.land-schamane.com \n⭐   Telegram Newsletter- & Austauschgruppe \n⭐   Whatsapp Newslettergruppe \n⭐   Instagram \n⭐   Facebook
URL:https://land-schamane.com/cms/event/modul-xii-medizinrad-steinspirale/
LOCATION:Akademie für Europäische Naturheilmethoden und Schamanismus\, Dorfstraße 225\, Wörschach\, Steiermark\, 8942
CATEGORIES:Schamanische Grundausbildung,Seminare zur Aktivierung der Selbstheilungskräfte
ATTACH;FMTTYPE=image/jpeg:https://land-schamane.com/cms/wp-content/uploads/2025/02/final-Vers.-2-GA-2425-e1743530798976.jpg
ORGANIZER;CN="Akademie f%C3%BCr Europ%C3%A4ische Naturheilmethoden und Schamanismus":MAILTO:marina.erlacher@hotmail.com
END:VEVENT
END:VCALENDAR