BEGIN:VCALENDAR
VERSION:2.0
PRODID:-//Akademie f&uuml;r Europ&auml;ische Naturheilmethoden &amp; Schamanismus - ECPv6.15.20//NONSGML v1.0//EN
CALSCALE:GREGORIAN
METHOD:PUBLISH
X-ORIGINAL-URL:https://land-schamane.com/cms
X-WR-CALDESC:Veranstaltungen für Akademie f&uuml;r Europ&auml;ische Naturheilmethoden &amp; Schamanismus
REFRESH-INTERVAL;VALUE=DURATION:PT1H
X-Robots-Tag:noindex
X-PUBLISHED-TTL:PT1H
BEGIN:VTIMEZONE
TZID:Europe/Vienna
BEGIN:DAYLIGHT
TZOFFSETFROM:+0100
TZOFFSETTO:+0200
TZNAME:CEST
DTSTART:20220327T010000
END:DAYLIGHT
BEGIN:STANDARD
TZOFFSETFROM:+0200
TZOFFSETTO:+0100
TZNAME:CET
DTSTART:20221030T010000
END:STANDARD
BEGIN:DAYLIGHT
TZOFFSETFROM:+0100
TZOFFSETTO:+0200
TZNAME:CEST
DTSTART:20230326T010000
END:DAYLIGHT
BEGIN:STANDARD
TZOFFSETFROM:+0200
TZOFFSETTO:+0100
TZNAME:CET
DTSTART:20231029T010000
END:STANDARD
BEGIN:DAYLIGHT
TZOFFSETFROM:+0100
TZOFFSETTO:+0200
TZNAME:CEST
DTSTART:20240331T010000
END:DAYLIGHT
BEGIN:STANDARD
TZOFFSETFROM:+0200
TZOFFSETTO:+0100
TZNAME:CET
DTSTART:20241027T010000
END:STANDARD
BEGIN:DAYLIGHT
TZOFFSETFROM:+0100
TZOFFSETTO:+0200
TZNAME:CEST
DTSTART:20250330T010000
END:DAYLIGHT
BEGIN:STANDARD
TZOFFSETFROM:+0200
TZOFFSETTO:+0100
TZNAME:CET
DTSTART:20251026T010000
END:STANDARD
END:VTIMEZONE
BEGIN:VEVENT
DTSTART;TZID=Europe/Vienna:20231215T140000
DTEND;TZID=Europe/Vienna:20240204T140000
DTSTAMP:20260425T031515
CREATED:20230824T071316Z
LAST-MODIFIED:20230831T181921Z
UID:1957-1702648800-1707055200@land-schamane.com
SUMMARY:Farbenlehre und Litho-Therapie in 2 Modulen
DESCRIPTION:DIE KRAFT VON EDELSTEINEN\, QUARZEN & KRISTALLEN \nIm Dienste von Gesundheit\, Schönheit und Spiritualität standen Edelsteine und Kristalle schon vor Jahrtausenden.\nBasierend auf dem Wissen alter Kulturen (Rom\, Griechenland\, Ägypten\, Nordamerika)\nwerden sie heutzutage wieder in vielen Therapien und spirituellen Ausbildungen integriert.\n \nIn diesem Workshop hast du die Gelegenheit\, ein fundiertes Grundwissen in Theorie und Praxis über ihre\nAnwendungsmöglichkeiten zu erarbeiten.\nDu erlernst ihre Einsatzmöglichkeiten bei körperlichen und seelischen Problemen und die Hilfe\,\ndie sie bei deiner spirituellen Weiterentwicklung bieten.\nDas Arbeiten mit den Schätzen von Mutter Erde bedeutet auch\, Verantwortung zu übernehmen.\n \nDas Wissen um ihre Kraft und Eigenschaften ermöglicht es uns\, sie auch zielführend bei anderen Methoden\nmit einzubeziehen (z.B. Handauflegen\, Aura- Reinigung\, Meditationen\, schamanischer Arbeit u.v.m.)\n\n Modul 1 – 15. – 17.12.2023 \nModul 2 – 02. – 04.02.2023
URL:https://land-schamane.com/cms/event/farbenlehre-und-litho-therapie/
LOCATION:Steiermark
CATEGORIES:Seminare, Vorträge & Fortbildungen
ORGANIZER;CN="Akademie f%C3%BCr Naturheilmethoden & Schamanismus":MAILTO:marina.erlacher@hotmail.com
END:VEVENT
END:VCALENDAR